BEGIN:VCALENDAR
VERSION:2.0
PRODID:-//Fidos For Freedom - ECPv6.15.18//NONSGML v1.0//EN
CALSCALE:GREGORIAN
METHOD:PUBLISH
X-ORIGINAL-URL:https://fidosforfreedom.org
X-WR-CALDESC:Events for Fidos For Freedom
REFRESH-INTERVAL;VALUE=DURATION:PT1H
X-Robots-Tag:noindex
X-PUBLISHED-TTL:PT1H
BEGIN:VTIMEZONE
TZID:America/New_York
BEGIN:DAYLIGHT
TZOFFSETFROM:-0500
TZOFFSETTO:-0400
TZNAME:EDT
DTSTART:20270314T070000
END:DAYLIGHT
BEGIN:STANDARD
TZOFFSETFROM:-0400
TZOFFSETTO:-0500
TZNAME:EST
DTSTART:20271107T060000
END:STANDARD
BEGIN:DAYLIGHT
TZOFFSETFROM:-0500
TZOFFSETTO:-0400
TZNAME:EDT
DTSTART:20280312T070000
END:DAYLIGHT
BEGIN:STANDARD
TZOFFSETFROM:-0400
TZOFFSETTO:-0500
TZNAME:EST
DTSTART:20281105T060000
END:STANDARD
BEGIN:DAYLIGHT
TZOFFSETFROM:-0500
TZOFFSETTO:-0400
TZNAME:EDT
DTSTART:20290311T070000
END:DAYLIGHT
BEGIN:STANDARD
TZOFFSETFROM:-0400
TZOFFSETTO:-0500
TZNAME:EST
DTSTART:20291104T060000
END:STANDARD
END:VTIMEZONE
BEGIN:VEVENT
DTSTART;TZID=America/New_York:20280701T110000
DTEND;TZID=America/New_York:20280701T123000
DTSTAMP:20260421T043118
CREATED:20230308T234818Z
LAST-MODIFIED:20231115T220239Z
UID:10001193-1846062000-1846067400@fidosforfreedom.org
SUMMARY:Service Dog Training
DESCRIPTION:
URL:https://fidosforfreedom.org/event/service-dog-training-2/2028-07-01/
ORGANIZER;CN="Fidos For Freedom":MAILTO:fidos@fidosforfreedom.org
END:VEVENT
BEGIN:VEVENT
DTSTART;TZID=America/New_York:20280705T183000
DTEND;TZID=America/New_York:20280705T191500
DTSTAMP:20260421T043118
CREATED:20230210T180833Z
LAST-MODIFIED:20230210T180848Z
UID:10001257-1846434600-1846437300@fidosforfreedom.org
SUMMARY:Therapy Dog Class
DESCRIPTION:
URL:https://fidosforfreedom.org/event/therapy-dog-class/2028-07-05/
LOCATION:Fidos For Freedom\, 1200 Sandy Spring Road\, Laurel\, MD\, 20707\, United States
ORGANIZER;CN="Fidos For Freedom":MAILTO:fidos@fidosforfreedom.org
END:VEVENT
BEGIN:VEVENT
DTSTART;TZID=America/New_York:20280708T110000
DTEND;TZID=America/New_York:20280708T123000
DTSTAMP:20260421T043118
CREATED:20230308T234818Z
LAST-MODIFIED:20231115T220239Z
UID:10001194-1846666800-1846672200@fidosforfreedom.org
SUMMARY:Service Dog Training
DESCRIPTION:
URL:https://fidosforfreedom.org/event/service-dog-training-2/2028-07-08/
ORGANIZER;CN="Fidos For Freedom":MAILTO:fidos@fidosforfreedom.org
END:VEVENT
BEGIN:VEVENT
DTSTART;TZID=America/New_York:20280712T183000
DTEND;TZID=America/New_York:20280712T191500
DTSTAMP:20260421T043118
CREATED:20230210T180833Z
LAST-MODIFIED:20230210T180848Z
UID:10001258-1847039400-1847042100@fidosforfreedom.org
SUMMARY:Therapy Dog Class
DESCRIPTION:
URL:https://fidosforfreedom.org/event/therapy-dog-class/2028-07-12/
LOCATION:Fidos For Freedom\, 1200 Sandy Spring Road\, Laurel\, MD\, 20707\, United States
ORGANIZER;CN="Fidos For Freedom":MAILTO:fidos@fidosforfreedom.org
END:VEVENT
BEGIN:VEVENT
DTSTART;TZID=America/New_York:20280715T110000
DTEND;TZID=America/New_York:20280715T123000
DTSTAMP:20260421T043118
CREATED:20230308T234818Z
LAST-MODIFIED:20231115T220239Z
UID:10001195-1847271600-1847277000@fidosforfreedom.org
SUMMARY:Service Dog Training
DESCRIPTION:
URL:https://fidosforfreedom.org/event/service-dog-training-2/2028-07-15/
ORGANIZER;CN="Fidos For Freedom":MAILTO:fidos@fidosforfreedom.org
END:VEVENT
BEGIN:VEVENT
DTSTART;TZID=America/New_York:20280719T183000
DTEND;TZID=America/New_York:20280719T191500
DTSTAMP:20260421T043118
CREATED:20230210T180833Z
LAST-MODIFIED:20230210T180848Z
UID:10001259-1847644200-1847646900@fidosforfreedom.org
SUMMARY:Therapy Dog Class
DESCRIPTION:
URL:https://fidosforfreedom.org/event/therapy-dog-class/2028-07-19/
LOCATION:Fidos For Freedom\, 1200 Sandy Spring Road\, Laurel\, MD\, 20707\, United States
ORGANIZER;CN="Fidos For Freedom":MAILTO:fidos@fidosforfreedom.org
END:VEVENT
BEGIN:VEVENT
DTSTART;TZID=America/New_York:20280722T110000
DTEND;TZID=America/New_York:20280722T123000
DTSTAMP:20260421T043118
CREATED:20230308T234818Z
LAST-MODIFIED:20231115T220239Z
UID:10001196-1847876400-1847881800@fidosforfreedom.org
SUMMARY:Service Dog Training
DESCRIPTION:
URL:https://fidosforfreedom.org/event/service-dog-training-2/2028-07-22/
ORGANIZER;CN="Fidos For Freedom":MAILTO:fidos@fidosforfreedom.org
END:VEVENT
BEGIN:VEVENT
DTSTART;TZID=America/New_York:20280726T183000
DTEND;TZID=America/New_York:20280726T191500
DTSTAMP:20260421T043118
CREATED:20230210T180833Z
LAST-MODIFIED:20230210T180848Z
UID:10001260-1848249000-1848251700@fidosforfreedom.org
SUMMARY:Therapy Dog Class
DESCRIPTION:
URL:https://fidosforfreedom.org/event/therapy-dog-class/2028-07-26/
LOCATION:Fidos For Freedom\, 1200 Sandy Spring Road\, Laurel\, MD\, 20707\, United States
ORGANIZER;CN="Fidos For Freedom":MAILTO:fidos@fidosforfreedom.org
END:VEVENT
BEGIN:VEVENT
DTSTART;TZID=America/New_York:20280729T110000
DTEND;TZID=America/New_York:20280729T123000
DTSTAMP:20260421T043118
CREATED:20230308T234818Z
LAST-MODIFIED:20231115T220239Z
UID:10001197-1848481200-1848486600@fidosforfreedom.org
SUMMARY:Service Dog Training
DESCRIPTION:
URL:https://fidosforfreedom.org/event/service-dog-training-2/2028-07-29/
ORGANIZER;CN="Fidos For Freedom":MAILTO:fidos@fidosforfreedom.org
END:VEVENT
END:VCALENDAR