BEGIN:VCALENDAR
VERSION:2.0
PRODID:-//Fidos For Freedom - ECPv6.15.18//NONSGML v1.0//EN
CALSCALE:GREGORIAN
METHOD:PUBLISH
X-ORIGINAL-URL:https://fidosforfreedom.org
X-WR-CALDESC:Events for Fidos For Freedom
REFRESH-INTERVAL;VALUE=DURATION:PT1H
X-Robots-Tag:noindex
X-PUBLISHED-TTL:PT1H
BEGIN:VTIMEZONE
TZID:America/New_York
BEGIN:DAYLIGHT
TZOFFSETFROM:-0500
TZOFFSETTO:-0400
TZNAME:EDT
DTSTART:20270314T070000
END:DAYLIGHT
BEGIN:STANDARD
TZOFFSETFROM:-0400
TZOFFSETTO:-0500
TZNAME:EST
DTSTART:20271107T060000
END:STANDARD
BEGIN:DAYLIGHT
TZOFFSETFROM:-0500
TZOFFSETTO:-0400
TZNAME:EDT
DTSTART:20280312T070000
END:DAYLIGHT
BEGIN:STANDARD
TZOFFSETFROM:-0400
TZOFFSETTO:-0500
TZNAME:EST
DTSTART:20281105T060000
END:STANDARD
BEGIN:DAYLIGHT
TZOFFSETFROM:-0500
TZOFFSETTO:-0400
TZNAME:EDT
DTSTART:20290311T070000
END:DAYLIGHT
BEGIN:STANDARD
TZOFFSETFROM:-0400
TZOFFSETTO:-0500
TZNAME:EST
DTSTART:20291104T060000
END:STANDARD
END:VTIMEZONE
BEGIN:VEVENT
DTSTART;TZID=America/New_York:20280802T183000
DTEND;TZID=America/New_York:20280802T191500
DTSTAMP:20260424T054041
CREATED:20230210T180833Z
LAST-MODIFIED:20230210T180848Z
UID:10001261-1848853800-1848856500@fidosforfreedom.org
SUMMARY:Therapy Dog Class
DESCRIPTION:
URL:https://fidosforfreedom.org/event/therapy-dog-class/2028-08-02/
LOCATION:Fidos For Freedom\, 1200 Sandy Spring Road\, Laurel\, MD\, 20707\, United States
ORGANIZER;CN="Fidos For Freedom":MAILTO:fidos@fidosforfreedom.org
END:VEVENT
BEGIN:VEVENT
DTSTART;TZID=America/New_York:20280805T110000
DTEND;TZID=America/New_York:20280805T123000
DTSTAMP:20260424T054041
CREATED:20230308T234818Z
LAST-MODIFIED:20231115T220239Z
UID:10001198-1849086000-1849091400@fidosforfreedom.org
SUMMARY:Service Dog Training
DESCRIPTION:
URL:https://fidosforfreedom.org/event/service-dog-training-2/2028-08-05/
ORGANIZER;CN="Fidos For Freedom":MAILTO:fidos@fidosforfreedom.org
END:VEVENT
BEGIN:VEVENT
DTSTART;TZID=America/New_York:20280809T183000
DTEND;TZID=America/New_York:20280809T191500
DTSTAMP:20260424T054041
CREATED:20230210T180833Z
LAST-MODIFIED:20230210T180848Z
UID:10001262-1849458600-1849461300@fidosforfreedom.org
SUMMARY:Therapy Dog Class
DESCRIPTION:
URL:https://fidosforfreedom.org/event/therapy-dog-class/2028-08-09/
LOCATION:Fidos For Freedom\, 1200 Sandy Spring Road\, Laurel\, MD\, 20707\, United States
ORGANIZER;CN="Fidos For Freedom":MAILTO:fidos@fidosforfreedom.org
END:VEVENT
BEGIN:VEVENT
DTSTART;TZID=America/New_York:20280812T110000
DTEND;TZID=America/New_York:20280812T123000
DTSTAMP:20260424T054041
CREATED:20230308T234818Z
LAST-MODIFIED:20231115T220239Z
UID:10001241-1849690800-1849696200@fidosforfreedom.org
SUMMARY:Service Dog Training
DESCRIPTION:
URL:https://fidosforfreedom.org/event/service-dog-training-2/2028-08-12/
ORGANIZER;CN="Fidos For Freedom":MAILTO:fidos@fidosforfreedom.org
END:VEVENT
BEGIN:VEVENT
DTSTART;TZID=America/New_York:20280816T183000
DTEND;TZID=America/New_York:20280816T191500
DTSTAMP:20260424T054041
CREATED:20230210T180833Z
LAST-MODIFIED:20230210T180848Z
UID:10001263-1850063400-1850066100@fidosforfreedom.org
SUMMARY:Therapy Dog Class
DESCRIPTION:
URL:https://fidosforfreedom.org/event/therapy-dog-class/2028-08-16/
LOCATION:Fidos For Freedom\, 1200 Sandy Spring Road\, Laurel\, MD\, 20707\, United States
ORGANIZER;CN="Fidos For Freedom":MAILTO:fidos@fidosforfreedom.org
END:VEVENT
BEGIN:VEVENT
DTSTART;TZID=America/New_York:20280819T110000
DTEND;TZID=America/New_York:20280819T123000
DTSTAMP:20260424T054041
CREATED:20230308T234818Z
LAST-MODIFIED:20231115T220239Z
UID:10001242-1850295600-1850301000@fidosforfreedom.org
SUMMARY:Service Dog Training
DESCRIPTION:
URL:https://fidosforfreedom.org/event/service-dog-training-2/2028-08-19/
ORGANIZER;CN="Fidos For Freedom":MAILTO:fidos@fidosforfreedom.org
END:VEVENT
BEGIN:VEVENT
DTSTART;TZID=America/New_York:20280823T183000
DTEND;TZID=America/New_York:20280823T191500
DTSTAMP:20260424T054041
CREATED:20230210T180833Z
LAST-MODIFIED:20230210T180848Z
UID:10001264-1850668200-1850670900@fidosforfreedom.org
SUMMARY:Therapy Dog Class
DESCRIPTION:
URL:https://fidosforfreedom.org/event/therapy-dog-class/2028-08-23/
LOCATION:Fidos For Freedom\, 1200 Sandy Spring Road\, Laurel\, MD\, 20707\, United States
ORGANIZER;CN="Fidos For Freedom":MAILTO:fidos@fidosforfreedom.org
END:VEVENT
BEGIN:VEVENT
DTSTART;TZID=America/New_York:20280826T110000
DTEND;TZID=America/New_York:20280826T123000
DTSTAMP:20260424T054041
CREATED:20230308T234818Z
LAST-MODIFIED:20231115T220239Z
UID:10001243-1850900400-1850905800@fidosforfreedom.org
SUMMARY:Service Dog Training
DESCRIPTION:
URL:https://fidosforfreedom.org/event/service-dog-training-2/2028-08-26/
ORGANIZER;CN="Fidos For Freedom":MAILTO:fidos@fidosforfreedom.org
END:VEVENT
BEGIN:VEVENT
DTSTART;TZID=America/New_York:20280830T183000
DTEND;TZID=America/New_York:20280830T191500
DTSTAMP:20260424T054041
CREATED:20230210T180833Z
LAST-MODIFIED:20230210T180848Z
UID:10001265-1851273000-1851275700@fidosforfreedom.org
SUMMARY:Therapy Dog Class
DESCRIPTION:
URL:https://fidosforfreedom.org/event/therapy-dog-class/2028-08-30/
LOCATION:Fidos For Freedom\, 1200 Sandy Spring Road\, Laurel\, MD\, 20707\, United States
ORGANIZER;CN="Fidos For Freedom":MAILTO:fidos@fidosforfreedom.org
END:VEVENT
END:VCALENDAR