BEGIN:VCALENDAR
VERSION:2.0
PRODID:-//Fidos For Freedom - ECPv6.15.18//NONSGML v1.0//EN
CALSCALE:GREGORIAN
METHOD:PUBLISH
X-ORIGINAL-URL:https://fidosforfreedom.org
X-WR-CALDESC:Events for Fidos For Freedom
REFRESH-INTERVAL;VALUE=DURATION:PT1H
X-Robots-Tag:noindex
X-PUBLISHED-TTL:PT1H
BEGIN:VTIMEZONE
TZID:America/New_York
BEGIN:DAYLIGHT
TZOFFSETFROM:-0500
TZOFFSETTO:-0400
TZNAME:EDT
DTSTART:20270314T070000
END:DAYLIGHT
BEGIN:STANDARD
TZOFFSETFROM:-0400
TZOFFSETTO:-0500
TZNAME:EST
DTSTART:20271107T060000
END:STANDARD
BEGIN:DAYLIGHT
TZOFFSETFROM:-0500
TZOFFSETTO:-0400
TZNAME:EDT
DTSTART:20280312T070000
END:DAYLIGHT
BEGIN:STANDARD
TZOFFSETFROM:-0400
TZOFFSETTO:-0500
TZNAME:EST
DTSTART:20281105T060000
END:STANDARD
BEGIN:DAYLIGHT
TZOFFSETFROM:-0500
TZOFFSETTO:-0400
TZNAME:EDT
DTSTART:20290311T070000
END:DAYLIGHT
BEGIN:STANDARD
TZOFFSETFROM:-0400
TZOFFSETTO:-0500
TZNAME:EST
DTSTART:20291104T060000
END:STANDARD
END:VTIMEZONE
BEGIN:VEVENT
DTSTART;TZID=America/New_York:20281202T110000
DTEND;TZID=America/New_York:20281202T123000
DTSTAMP:20260424T114856
CREATED:20230308T234818Z
LAST-MODIFIED:20231115T220239Z
UID:10001281-1859367600-1859373000@fidosforfreedom.org
SUMMARY:Service Dog Training
DESCRIPTION:
URL:https://fidosforfreedom.org/event/service-dog-training-2/2028-12-02/
ORGANIZER;CN="Fidos For Freedom":MAILTO:fidos@fidosforfreedom.org
END:VEVENT
BEGIN:VEVENT
DTSTART;TZID=America/New_York:20281206T183000
DTEND;TZID=America/New_York:20281206T191500
DTSTAMP:20260424T114856
CREATED:20230210T180833Z
LAST-MODIFIED:20230210T180848Z
UID:10001284-1859740200-1859742900@fidosforfreedom.org
SUMMARY:Therapy Dog Class
DESCRIPTION:
URL:https://fidosforfreedom.org/event/therapy-dog-class/2028-12-06/
LOCATION:Fidos For Freedom\, 1200 Sandy Spring Road\, Laurel\, MD\, 20707\, United States
ORGANIZER;CN="Fidos For Freedom":MAILTO:fidos@fidosforfreedom.org
END:VEVENT
BEGIN:VEVENT
DTSTART;TZID=America/New_York:20281209T110000
DTEND;TZID=America/New_York:20281209T123000
DTSTAMP:20260424T114856
CREATED:20230308T234818Z
LAST-MODIFIED:20231115T220239Z
UID:10001282-1859972400-1859977800@fidosforfreedom.org
SUMMARY:Service Dog Training
DESCRIPTION:
URL:https://fidosforfreedom.org/event/service-dog-training-2/2028-12-09/
ORGANIZER;CN="Fidos For Freedom":MAILTO:fidos@fidosforfreedom.org
END:VEVENT
BEGIN:VEVENT
DTSTART;TZID=America/New_York:20281213T183000
DTEND;TZID=America/New_York:20281213T191500
DTSTAMP:20260424T114856
CREATED:20230210T180833Z
LAST-MODIFIED:20230210T180848Z
UID:10001315-1860345000-1860347700@fidosforfreedom.org
SUMMARY:Therapy Dog Class
DESCRIPTION:
URL:https://fidosforfreedom.org/event/therapy-dog-class/2028-12-13/
LOCATION:Fidos For Freedom\, 1200 Sandy Spring Road\, Laurel\, MD\, 20707\, United States
ORGANIZER;CN="Fidos For Freedom":MAILTO:fidos@fidosforfreedom.org
END:VEVENT
BEGIN:VEVENT
DTSTART;TZID=America/New_York:20281216T110000
DTEND;TZID=America/New_York:20281216T123000
DTSTAMP:20260424T114856
CREATED:20230308T234818Z
LAST-MODIFIED:20231115T220239Z
UID:10001290-1860577200-1860582600@fidosforfreedom.org
SUMMARY:Service Dog Training
DESCRIPTION:
URL:https://fidosforfreedom.org/event/service-dog-training-2/2028-12-16/
ORGANIZER;CN="Fidos For Freedom":MAILTO:fidos@fidosforfreedom.org
END:VEVENT
BEGIN:VEVENT
DTSTART;TZID=America/New_York:20281220T183000
DTEND;TZID=America/New_York:20281220T191500
DTSTAMP:20260424T114856
CREATED:20230210T180833Z
LAST-MODIFIED:20230210T180848Z
UID:10001316-1860949800-1860952500@fidosforfreedom.org
SUMMARY:Therapy Dog Class
DESCRIPTION:
URL:https://fidosforfreedom.org/event/therapy-dog-class/2028-12-20/
LOCATION:Fidos For Freedom\, 1200 Sandy Spring Road\, Laurel\, MD\, 20707\, United States
ORGANIZER;CN="Fidos For Freedom":MAILTO:fidos@fidosforfreedom.org
END:VEVENT
BEGIN:VEVENT
DTSTART;TZID=America/New_York:20281223T110000
DTEND;TZID=America/New_York:20281223T123000
DTSTAMP:20260424T114856
CREATED:20230308T234818Z
LAST-MODIFIED:20231115T220239Z
UID:10001291-1861182000-1861187400@fidosforfreedom.org
SUMMARY:Service Dog Training
DESCRIPTION:
URL:https://fidosforfreedom.org/event/service-dog-training-2/2028-12-23/
ORGANIZER;CN="Fidos For Freedom":MAILTO:fidos@fidosforfreedom.org
END:VEVENT
BEGIN:VEVENT
DTSTART;TZID=America/New_York:20281227T183000
DTEND;TZID=America/New_York:20281227T191500
DTSTAMP:20260424T114856
CREATED:20230210T180833Z
LAST-MODIFIED:20230210T180848Z
UID:10001317-1861554600-1861557300@fidosforfreedom.org
SUMMARY:Therapy Dog Class
DESCRIPTION:
URL:https://fidosforfreedom.org/event/therapy-dog-class/2028-12-27/
LOCATION:Fidos For Freedom\, 1200 Sandy Spring Road\, Laurel\, MD\, 20707\, United States
ORGANIZER;CN="Fidos For Freedom":MAILTO:fidos@fidosforfreedom.org
END:VEVENT
BEGIN:VEVENT
DTSTART;TZID=America/New_York:20281230T110000
DTEND;TZID=America/New_York:20281230T123000
DTSTAMP:20260424T114856
CREATED:20230308T234818Z
LAST-MODIFIED:20231115T220239Z
UID:10001292-1861786800-1861792200@fidosforfreedom.org
SUMMARY:Service Dog Training
DESCRIPTION:
URL:https://fidosforfreedom.org/event/service-dog-training-2/2028-12-30/
ORGANIZER;CN="Fidos For Freedom":MAILTO:fidos@fidosforfreedom.org
END:VEVENT
END:VCALENDAR