BEGIN:VCALENDAR
VERSION:2.0
PRODID:-//Fidos For Freedom - ECPv6.15.18//NONSGML v1.0//EN
CALSCALE:GREGORIAN
METHOD:PUBLISH
X-ORIGINAL-URL:https://fidosforfreedom.org
X-WR-CALDESC:Events for Fidos For Freedom
REFRESH-INTERVAL;VALUE=DURATION:PT1H
X-Robots-Tag:noindex
X-PUBLISHED-TTL:PT1H
BEGIN:VTIMEZONE
TZID:America/New_York
BEGIN:DAYLIGHT
TZOFFSETFROM:-0500
TZOFFSETTO:-0400
TZNAME:EDT
DTSTART:20220313T070000
END:DAYLIGHT
BEGIN:STANDARD
TZOFFSETFROM:-0400
TZOFFSETTO:-0500
TZNAME:EST
DTSTART:20221106T060000
END:STANDARD
BEGIN:DAYLIGHT
TZOFFSETFROM:-0500
TZOFFSETTO:-0400
TZNAME:EDT
DTSTART:20230312T070000
END:DAYLIGHT
BEGIN:STANDARD
TZOFFSETFROM:-0400
TZOFFSETTO:-0500
TZNAME:EST
DTSTART:20231105T060000
END:STANDARD
BEGIN:DAYLIGHT
TZOFFSETFROM:-0500
TZOFFSETTO:-0400
TZNAME:EDT
DTSTART:20240310T070000
END:DAYLIGHT
BEGIN:STANDARD
TZOFFSETFROM:-0400
TZOFFSETTO:-0500
TZNAME:EST
DTSTART:20241103T060000
END:STANDARD
END:VTIMEZONE
BEGIN:VEVENT
DTSTART;TZID=America/New_York:20230927T183000
DTEND;TZID=America/New_York:20230927T191500
DTSTAMP:20260424T152120
CREATED:20230210T180833Z
LAST-MODIFIED:20230210T180848Z
UID:10000649-1695839400-1695842100@fidosforfreedom.org
SUMMARY:Therapy Dog Class
DESCRIPTION:
URL:https://fidosforfreedom.org/event/therapy-dog-class/2023-09-27/
LOCATION:Fidos For Freedom\, 1200 Sandy Spring Road\, Laurel\, MD\, 20707\, United States
ORGANIZER;CN="Fidos For Freedom":MAILTO:fidos@fidosforfreedom.org
END:VEVENT
BEGIN:VEVENT
DTSTART;TZID=America/New_York:20230923T110000
DTEND;TZID=America/New_York:20230923T123000
DTSTAMP:20260424T152120
CREATED:20230308T234818Z
LAST-MODIFIED:20231115T220239Z
UID:10000922-1695466800-1695472200@fidosforfreedom.org
SUMMARY:Service Dog Training
DESCRIPTION:
URL:https://fidosforfreedom.org/event/service-dog-training-2/2023-09-23/
ORGANIZER;CN="Fidos For Freedom":MAILTO:fidos@fidosforfreedom.org
END:VEVENT
BEGIN:VEVENT
DTSTART;TZID=America/New_York:20230920T183000
DTEND;TZID=America/New_York:20230920T191500
DTSTAMP:20260424T152120
CREATED:20230210T180833Z
LAST-MODIFIED:20230210T180848Z
UID:10000648-1695234600-1695237300@fidosforfreedom.org
SUMMARY:Therapy Dog Class
DESCRIPTION:
URL:https://fidosforfreedom.org/event/therapy-dog-class/2023-09-20/
LOCATION:Fidos For Freedom\, 1200 Sandy Spring Road\, Laurel\, MD\, 20707\, United States
ORGANIZER;CN="Fidos For Freedom":MAILTO:fidos@fidosforfreedom.org
END:VEVENT
BEGIN:VEVENT
DTSTART;TZID=America/New_York:20230916T110000
DTEND;TZID=America/New_York:20230916T123000
DTSTAMP:20260424T152120
CREATED:20230308T234818Z
LAST-MODIFIED:20231115T220239Z
UID:10000921-1694862000-1694867400@fidosforfreedom.org
SUMMARY:Service Dog Training
DESCRIPTION:
URL:https://fidosforfreedom.org/event/service-dog-training-2/2023-09-16/
ORGANIZER;CN="Fidos For Freedom":MAILTO:fidos@fidosforfreedom.org
END:VEVENT
BEGIN:VEVENT
DTSTART;TZID=America/New_York:20230913T183000
DTEND;TZID=America/New_York:20230913T191500
DTSTAMP:20260424T152120
CREATED:20230210T180833Z
LAST-MODIFIED:20230210T180848Z
UID:10000647-1694629800-1694632500@fidosforfreedom.org
SUMMARY:Therapy Dog Class
DESCRIPTION:
URL:https://fidosforfreedom.org/event/therapy-dog-class/2023-09-13/
LOCATION:Fidos For Freedom\, 1200 Sandy Spring Road\, Laurel\, MD\, 20707\, United States
ORGANIZER;CN="Fidos For Freedom":MAILTO:fidos@fidosforfreedom.org
END:VEVENT
BEGIN:VEVENT
DTSTART;TZID=America/New_York:20230909T110000
DTEND;TZID=America/New_York:20230909T123000
DTSTAMP:20260424T152120
CREATED:20230308T234818Z
LAST-MODIFIED:20231115T220239Z
UID:10000920-1694257200-1694262600@fidosforfreedom.org
SUMMARY:Service Dog Training
DESCRIPTION:
URL:https://fidosforfreedom.org/event/service-dog-training-2/2023-09-09/
ORGANIZER;CN="Fidos For Freedom":MAILTO:fidos@fidosforfreedom.org
END:VEVENT
BEGIN:VEVENT
DTSTART;TZID=America/New_York:20230906T183000
DTEND;TZID=America/New_York:20230906T191500
DTSTAMP:20260424T152120
CREATED:20230210T180833Z
LAST-MODIFIED:20230210T180848Z
UID:10000646-1694025000-1694027700@fidosforfreedom.org
SUMMARY:Therapy Dog Class
DESCRIPTION:
URL:https://fidosforfreedom.org/event/therapy-dog-class/2023-09-06/
LOCATION:Fidos For Freedom\, 1200 Sandy Spring Road\, Laurel\, MD\, 20707\, United States
ORGANIZER;CN="Fidos For Freedom":MAILTO:fidos@fidosforfreedom.org
END:VEVENT
BEGIN:VEVENT
DTSTART;TZID=America/New_York:20230902T110000
DTEND;TZID=America/New_York:20230902T123000
DTSTAMP:20260424T152120
CREATED:20230810T181546Z
LAST-MODIFIED:20230810T181546Z
UID:10000919-1693652400-1693657800@fidosforfreedom.org
SUMMARY:Service Dog Training
DESCRIPTION:
URL:https://fidosforfreedom.org/event/service-dog-training-2-4/
ORGANIZER;CN="Fidos For Freedom":MAILTO:fidos@fidosforfreedom.org
END:VEVENT
BEGIN:VEVENT
DTSTART;TZID=America/New_York:20230830T183000
DTEND;TZID=America/New_York:20230830T191500
DTSTAMP:20260424T152120
CREATED:20230210T180833Z
LAST-MODIFIED:20230210T180848Z
UID:10000645-1693420200-1693422900@fidosforfreedom.org
SUMMARY:Therapy Dog Class
DESCRIPTION:
URL:https://fidosforfreedom.org/event/therapy-dog-class/2023-08-30/
LOCATION:Fidos For Freedom\, 1200 Sandy Spring Road\, Laurel\, MD\, 20707\, United States
ORGANIZER;CN="Fidos For Freedom":MAILTO:fidos@fidosforfreedom.org
END:VEVENT
BEGIN:VEVENT
DTSTART;TZID=America/New_York:20230826T110000
DTEND;TZID=America/New_York:20230826T123000
DTSTAMP:20260424T152120
CREATED:20230308T234818Z
LAST-MODIFIED:20231115T220239Z
UID:10000918-1693047600-1693053000@fidosforfreedom.org
SUMMARY:Service Dog Training
DESCRIPTION:
URL:https://fidosforfreedom.org/event/service-dog-training-2/2023-08-26/
ORGANIZER;CN="Fidos For Freedom":MAILTO:fidos@fidosforfreedom.org
END:VEVENT
BEGIN:VEVENT
DTSTART;TZID=America/New_York:20230823T183000
DTEND;TZID=America/New_York:20230823T191500
DTSTAMP:20260424T152120
CREATED:20230210T180833Z
LAST-MODIFIED:20230210T180848Z
UID:10000644-1692815400-1692818100@fidosforfreedom.org
SUMMARY:Therapy Dog Class
DESCRIPTION:
URL:https://fidosforfreedom.org/event/therapy-dog-class/2023-08-23/
LOCATION:Fidos For Freedom\, 1200 Sandy Spring Road\, Laurel\, MD\, 20707\, United States
ORGANIZER;CN="Fidos For Freedom":MAILTO:fidos@fidosforfreedom.org
END:VEVENT
BEGIN:VEVENT
DTSTART;TZID=America/New_York:20230819T110000
DTEND;TZID=America/New_York:20230819T123000
DTSTAMP:20260424T152120
CREATED:20230308T234818Z
LAST-MODIFIED:20231115T220239Z
UID:10000917-1692442800-1692448200@fidosforfreedom.org
SUMMARY:Service Dog Training
DESCRIPTION:
URL:https://fidosforfreedom.org/event/service-dog-training-2/2023-08-19/
ORGANIZER;CN="Fidos For Freedom":MAILTO:fidos@fidosforfreedom.org
END:VEVENT
BEGIN:VEVENT
DTSTART;TZID=America/New_York:20230816T183000
DTEND;TZID=America/New_York:20230816T191500
DTSTAMP:20260424T152120
CREATED:20230210T180833Z
LAST-MODIFIED:20230210T180848Z
UID:10000643-1692210600-1692213300@fidosforfreedom.org
SUMMARY:Therapy Dog Class
DESCRIPTION:
URL:https://fidosforfreedom.org/event/therapy-dog-class/2023-08-16/
LOCATION:Fidos For Freedom\, 1200 Sandy Spring Road\, Laurel\, MD\, 20707\, United States
ORGANIZER;CN="Fidos For Freedom":MAILTO:fidos@fidosforfreedom.org
END:VEVENT
BEGIN:VEVENT
DTSTART;TZID=America/New_York:20230812T110000
DTEND;TZID=America/New_York:20230812T123000
DTSTAMP:20260424T152120
CREATED:20230308T234818Z
LAST-MODIFIED:20231115T220239Z
UID:10000916-1691838000-1691843400@fidosforfreedom.org
SUMMARY:Service Dog Training
DESCRIPTION:
URL:https://fidosforfreedom.org/event/service-dog-training-2/2023-08-12/
ORGANIZER;CN="Fidos For Freedom":MAILTO:fidos@fidosforfreedom.org
END:VEVENT
BEGIN:VEVENT
DTSTART;TZID=America/New_York:20230809T183000
DTEND;TZID=America/New_York:20230809T191500
DTSTAMP:20260424T152120
CREATED:20230210T180833Z
LAST-MODIFIED:20230210T180848Z
UID:10000642-1691605800-1691608500@fidosforfreedom.org
SUMMARY:Therapy Dog Class
DESCRIPTION:
URL:https://fidosforfreedom.org/event/therapy-dog-class/2023-08-09/
LOCATION:Fidos For Freedom\, 1200 Sandy Spring Road\, Laurel\, MD\, 20707\, United States
ORGANIZER;CN="Fidos For Freedom":MAILTO:fidos@fidosforfreedom.org
END:VEVENT
BEGIN:VEVENT
DTSTART;TZID=America/New_York:20230805T110000
DTEND;TZID=America/New_York:20230805T123000
DTSTAMP:20260424T152120
CREATED:20230308T234818Z
LAST-MODIFIED:20231115T220239Z
UID:10000915-1691233200-1691238600@fidosforfreedom.org
SUMMARY:Service Dog Training
DESCRIPTION:
URL:https://fidosforfreedom.org/event/service-dog-training-2/2023-08-05/
ORGANIZER;CN="Fidos For Freedom":MAILTO:fidos@fidosforfreedom.org
END:VEVENT
BEGIN:VEVENT
DTSTART;TZID=America/New_York:20230802T183000
DTEND;TZID=America/New_York:20230802T191500
DTSTAMP:20260424T152120
CREATED:20230210T180833Z
LAST-MODIFIED:20230210T180848Z
UID:10000641-1691001000-1691003700@fidosforfreedom.org
SUMMARY:Therapy Dog Class
DESCRIPTION:
URL:https://fidosforfreedom.org/event/therapy-dog-class/2023-08-02/
LOCATION:Fidos For Freedom\, 1200 Sandy Spring Road\, Laurel\, MD\, 20707\, United States
ORGANIZER;CN="Fidos For Freedom":MAILTO:fidos@fidosforfreedom.org
END:VEVENT
BEGIN:VEVENT
DTSTART;TZID=America/New_York:20230729T110000
DTEND;TZID=America/New_York:20230729T123000
DTSTAMP:20260424T152120
CREATED:20230308T234818Z
LAST-MODIFIED:20231115T220239Z
UID:10000914-1690628400-1690633800@fidosforfreedom.org
SUMMARY:Service Dog Training
DESCRIPTION:
URL:https://fidosforfreedom.org/event/service-dog-training-2/2023-07-29/
ORGANIZER;CN="Fidos For Freedom":MAILTO:fidos@fidosforfreedom.org
END:VEVENT
BEGIN:VEVENT
DTSTART;TZID=America/New_York:20230726T183000
DTEND;TZID=America/New_York:20230726T191500
DTSTAMP:20260424T152120
CREATED:20230210T180833Z
LAST-MODIFIED:20230210T180848Z
UID:10000640-1690396200-1690398900@fidosforfreedom.org
SUMMARY:Therapy Dog Class
DESCRIPTION:
URL:https://fidosforfreedom.org/event/therapy-dog-class/2023-07-26/
LOCATION:Fidos For Freedom\, 1200 Sandy Spring Road\, Laurel\, MD\, 20707\, United States
ORGANIZER;CN="Fidos For Freedom":MAILTO:fidos@fidosforfreedom.org
END:VEVENT
BEGIN:VEVENT
DTSTART;TZID=America/New_York:20230722T110000
DTEND;TZID=America/New_York:20230722T123000
DTSTAMP:20260424T152120
CREATED:20230308T234818Z
LAST-MODIFIED:20231115T220239Z
UID:10000913-1690023600-1690029000@fidosforfreedom.org
SUMMARY:Service Dog Training
DESCRIPTION:
URL:https://fidosforfreedom.org/event/service-dog-training-2/2023-07-22/
ORGANIZER;CN="Fidos For Freedom":MAILTO:fidos@fidosforfreedom.org
END:VEVENT
BEGIN:VEVENT
DTSTART;TZID=America/New_York:20230719T183000
DTEND;TZID=America/New_York:20230719T191500
DTSTAMP:20260424T152120
CREATED:20230210T180833Z
LAST-MODIFIED:20230210T180848Z
UID:10000639-1689791400-1689794100@fidosforfreedom.org
SUMMARY:Therapy Dog Class
DESCRIPTION:
URL:https://fidosforfreedom.org/event/therapy-dog-class/2023-07-19/
LOCATION:Fidos For Freedom\, 1200 Sandy Spring Road\, Laurel\, MD\, 20707\, United States
ORGANIZER;CN="Fidos For Freedom":MAILTO:fidos@fidosforfreedom.org
END:VEVENT
BEGIN:VEVENT
DTSTART;TZID=America/New_York:20230715T110000
DTEND;TZID=America/New_York:20230715T123000
DTSTAMP:20260424T152120
CREATED:20230308T234818Z
LAST-MODIFIED:20231115T220239Z
UID:10000912-1689418800-1689424200@fidosforfreedom.org
SUMMARY:Service Dog Training
DESCRIPTION:
URL:https://fidosforfreedom.org/event/service-dog-training-2/2023-07-15/
ORGANIZER;CN="Fidos For Freedom":MAILTO:fidos@fidosforfreedom.org
END:VEVENT
BEGIN:VEVENT
DTSTART;TZID=America/New_York:20230712T183000
DTEND;TZID=America/New_York:20230712T191500
DTSTAMP:20260424T152120
CREATED:20230210T180833Z
LAST-MODIFIED:20230210T180848Z
UID:10000638-1689186600-1689189300@fidosforfreedom.org
SUMMARY:Therapy Dog Class
DESCRIPTION:
URL:https://fidosforfreedom.org/event/therapy-dog-class/2023-07-12/
LOCATION:Fidos For Freedom\, 1200 Sandy Spring Road\, Laurel\, MD\, 20707\, United States
ORGANIZER;CN="Fidos For Freedom":MAILTO:fidos@fidosforfreedom.org
END:VEVENT
BEGIN:VEVENT
DTSTART;TZID=America/New_York:20230708T110000
DTEND;TZID=America/New_York:20230708T123000
DTSTAMP:20260424T152120
CREATED:20230308T234818Z
LAST-MODIFIED:20231115T220239Z
UID:10000911-1688814000-1688819400@fidosforfreedom.org
SUMMARY:Service Dog Training
DESCRIPTION:
URL:https://fidosforfreedom.org/event/service-dog-training-2/2023-07-08/
ORGANIZER;CN="Fidos For Freedom":MAILTO:fidos@fidosforfreedom.org
END:VEVENT
BEGIN:VEVENT
DTSTART;TZID=America/New_York:20230705T183000
DTEND;TZID=America/New_York:20230705T191500
DTSTAMP:20260424T152120
CREATED:20230614T234516Z
LAST-MODIFIED:20230614T234516Z
UID:10000637-1688581800-1688584500@fidosforfreedom.org
SUMMARY:Therapy Dog Class
DESCRIPTION:
URL:https://fidosforfreedom.org/event/therapy-dog-class-2/
LOCATION:Fidos For Freedom\, 1200 Sandy Spring Road\, Laurel\, MD\, 20707\, United States
ORGANIZER;CN="Fidos For Freedom":MAILTO:fidos@fidosforfreedom.org
END:VEVENT
BEGIN:VEVENT
DTSTART;TZID=America/New_York:20230701T110000
DTEND;TZID=America/New_York:20230701T123000
DTSTAMP:20260424T152120
CREATED:20230614T234021Z
LAST-MODIFIED:20230614T234021Z
UID:10000910-1688209200-1688214600@fidosforfreedom.org
SUMMARY:Service Dog Training
DESCRIPTION:
URL:https://fidosforfreedom.org/event/service-dog-training-2-3/
ORGANIZER;CN="Fidos For Freedom":MAILTO:fidos@fidosforfreedom.org
END:VEVENT
BEGIN:VEVENT
DTSTART;TZID=America/New_York:20230628T183000
DTEND;TZID=America/New_York:20230628T191500
DTSTAMP:20260424T152120
CREATED:20230210T180833Z
LAST-MODIFIED:20230210T180848Z
UID:10000636-1687977000-1687979700@fidosforfreedom.org
SUMMARY:Therapy Dog Class
DESCRIPTION:
URL:https://fidosforfreedom.org/event/therapy-dog-class/2023-06-28/
LOCATION:Fidos For Freedom\, 1200 Sandy Spring Road\, Laurel\, MD\, 20707\, United States
ORGANIZER;CN="Fidos For Freedom":MAILTO:fidos@fidosforfreedom.org
END:VEVENT
BEGIN:VEVENT
DTSTART;TZID=America/New_York:20230624T110000
DTEND;TZID=America/New_York:20230624T123000
DTSTAMP:20260424T152120
CREATED:20230308T234818Z
LAST-MODIFIED:20231115T220239Z
UID:10000909-1687604400-1687609800@fidosforfreedom.org
SUMMARY:Service Dog Training
DESCRIPTION:
URL:https://fidosforfreedom.org/event/service-dog-training-2/2023-06-24/
ORGANIZER;CN="Fidos For Freedom":MAILTO:fidos@fidosforfreedom.org
END:VEVENT
BEGIN:VEVENT
DTSTART;TZID=America/New_York:20230621T183000
DTEND;TZID=America/New_York:20230621T191500
DTSTAMP:20260424T152120
CREATED:20230210T180833Z
LAST-MODIFIED:20230210T180848Z
UID:10000635-1687372200-1687374900@fidosforfreedom.org
SUMMARY:Therapy Dog Class
DESCRIPTION:
URL:https://fidosforfreedom.org/event/therapy-dog-class/2023-06-21/
LOCATION:Fidos For Freedom\, 1200 Sandy Spring Road\, Laurel\, MD\, 20707\, United States
ORGANIZER;CN="Fidos For Freedom":MAILTO:fidos@fidosforfreedom.org
END:VEVENT
BEGIN:VEVENT
DTSTART;TZID=America/New_York:20230617T110000
DTEND;TZID=America/New_York:20230617T123000
DTSTAMP:20260424T152120
CREATED:20230308T234818Z
LAST-MODIFIED:20231115T220239Z
UID:10000908-1686999600-1687005000@fidosforfreedom.org
SUMMARY:Service Dog Training
DESCRIPTION:
URL:https://fidosforfreedom.org/event/service-dog-training-2/2023-06-17/
ORGANIZER;CN="Fidos For Freedom":MAILTO:fidos@fidosforfreedom.org
END:VEVENT
END:VCALENDAR