BEGIN:VCALENDAR
VERSION:2.0
PRODID:-//Fidos For Freedom - ECPv6.15.18//NONSGML v1.0//EN
CALSCALE:GREGORIAN
METHOD:PUBLISH
X-WR-CALNAME:Fidos For Freedom
X-ORIGINAL-URL:https://fidosforfreedom.org
X-WR-CALDESC:Events for Fidos For Freedom
REFRESH-INTERVAL;VALUE=DURATION:PT1H
X-Robots-Tag:noindex
X-PUBLISHED-TTL:PT1H
BEGIN:VTIMEZONE
TZID:America/New_York
BEGIN:DAYLIGHT
TZOFFSETFROM:-0500
TZOFFSETTO:-0400
TZNAME:EDT
DTSTART:20220313T070000
END:DAYLIGHT
BEGIN:STANDARD
TZOFFSETFROM:-0400
TZOFFSETTO:-0500
TZNAME:EST
DTSTART:20221106T060000
END:STANDARD
BEGIN:DAYLIGHT
TZOFFSETFROM:-0500
TZOFFSETTO:-0400
TZNAME:EDT
DTSTART:20230312T070000
END:DAYLIGHT
BEGIN:STANDARD
TZOFFSETFROM:-0400
TZOFFSETTO:-0500
TZNAME:EST
DTSTART:20231105T060000
END:STANDARD
BEGIN:DAYLIGHT
TZOFFSETFROM:-0500
TZOFFSETTO:-0400
TZNAME:EDT
DTSTART:20240310T070000
END:DAYLIGHT
BEGIN:STANDARD
TZOFFSETFROM:-0400
TZOFFSETTO:-0500
TZNAME:EST
DTSTART:20241103T060000
END:STANDARD
END:VTIMEZONE
BEGIN:VEVENT
DTSTART;TZID=America/New_York:20230705T183000
DTEND;TZID=America/New_York:20230705T191500
DTSTAMP:20260424T181917
CREATED:20230614T234516Z
LAST-MODIFIED:20230614T234516Z
UID:10000637-1688581800-1688584500@fidosforfreedom.org
SUMMARY:Therapy Dog Class
DESCRIPTION:
URL:https://fidosforfreedom.org/event/therapy-dog-class-2/
LOCATION:Fidos For Freedom\, 1200 Sandy Spring Road\, Laurel\, MD\, 20707\, United States
ORGANIZER;CN="Fidos For Freedom":MAILTO:fidos@fidosforfreedom.org
END:VEVENT
BEGIN:VEVENT
DTSTART;TZID=America/New_York:20230701T110000
DTEND;TZID=America/New_York:20230701T123000
DTSTAMP:20260424T181917
CREATED:20230614T234021Z
LAST-MODIFIED:20230614T234021Z
UID:10000910-1688209200-1688214600@fidosforfreedom.org
SUMMARY:Service Dog Training
DESCRIPTION:
URL:https://fidosforfreedom.org/event/service-dog-training-2-3/
ORGANIZER;CN="Fidos For Freedom":MAILTO:fidos@fidosforfreedom.org
END:VEVENT
BEGIN:VEVENT
DTSTART;TZID=America/New_York:20230628T183000
DTEND;TZID=America/New_York:20230628T191500
DTSTAMP:20260424T181917
CREATED:20230210T180833Z
LAST-MODIFIED:20230210T180848Z
UID:10000636-1687977000-1687979700@fidosforfreedom.org
SUMMARY:Therapy Dog Class
DESCRIPTION:
URL:https://fidosforfreedom.org/event/therapy-dog-class/2023-06-28/
LOCATION:Fidos For Freedom\, 1200 Sandy Spring Road\, Laurel\, MD\, 20707\, United States
ORGANIZER;CN="Fidos For Freedom":MAILTO:fidos@fidosforfreedom.org
END:VEVENT
BEGIN:VEVENT
DTSTART;TZID=America/New_York:20230624T110000
DTEND;TZID=America/New_York:20230624T123000
DTSTAMP:20260424T181917
CREATED:20230308T234818Z
LAST-MODIFIED:20231115T220239Z
UID:10000909-1687604400-1687609800@fidosforfreedom.org
SUMMARY:Service Dog Training
DESCRIPTION:
URL:https://fidosforfreedom.org/event/service-dog-training-2/2023-06-24/
ORGANIZER;CN="Fidos For Freedom":MAILTO:fidos@fidosforfreedom.org
END:VEVENT
BEGIN:VEVENT
DTSTART;TZID=America/New_York:20230621T183000
DTEND;TZID=America/New_York:20230621T191500
DTSTAMP:20260424T181917
CREATED:20230210T180833Z
LAST-MODIFIED:20230210T180848Z
UID:10000635-1687372200-1687374900@fidosforfreedom.org
SUMMARY:Therapy Dog Class
DESCRIPTION:
URL:https://fidosforfreedom.org/event/therapy-dog-class/2023-06-21/
LOCATION:Fidos For Freedom\, 1200 Sandy Spring Road\, Laurel\, MD\, 20707\, United States
ORGANIZER;CN="Fidos For Freedom":MAILTO:fidos@fidosforfreedom.org
END:VEVENT
BEGIN:VEVENT
DTSTART;TZID=America/New_York:20230617T110000
DTEND;TZID=America/New_York:20230617T123000
DTSTAMP:20260424T181917
CREATED:20230308T234818Z
LAST-MODIFIED:20231115T220239Z
UID:10000908-1686999600-1687005000@fidosforfreedom.org
SUMMARY:Service Dog Training
DESCRIPTION:
URL:https://fidosforfreedom.org/event/service-dog-training-2/2023-06-17/
ORGANIZER;CN="Fidos For Freedom":MAILTO:fidos@fidosforfreedom.org
END:VEVENT
BEGIN:VEVENT
DTSTART;TZID=America/New_York:20230614T183000
DTEND;TZID=America/New_York:20230614T191500
DTSTAMP:20260424T181917
CREATED:20230210T180833Z
LAST-MODIFIED:20230210T180848Z
UID:10000634-1686767400-1686770100@fidosforfreedom.org
SUMMARY:Therapy Dog Class
DESCRIPTION:
URL:https://fidosforfreedom.org/event/therapy-dog-class/2023-06-14/
LOCATION:Fidos For Freedom\, 1200 Sandy Spring Road\, Laurel\, MD\, 20707\, United States
ORGANIZER;CN="Fidos For Freedom":MAILTO:fidos@fidosforfreedom.org
END:VEVENT
BEGIN:VEVENT
DTSTART;TZID=America/New_York:20230610T110000
DTEND;TZID=America/New_York:20230610T123000
DTSTAMP:20260424T181917
CREATED:20230308T234818Z
LAST-MODIFIED:20231115T220239Z
UID:10000907-1686394800-1686400200@fidosforfreedom.org
SUMMARY:Service Dog Training
DESCRIPTION:
URL:https://fidosforfreedom.org/event/service-dog-training-2/2023-06-10/
ORGANIZER;CN="Fidos For Freedom":MAILTO:fidos@fidosforfreedom.org
END:VEVENT
BEGIN:VEVENT
DTSTART;TZID=America/New_York:20230607T183000
DTEND;TZID=America/New_York:20230607T191500
DTSTAMP:20260424T181917
CREATED:20230210T180833Z
LAST-MODIFIED:20230210T180848Z
UID:10000633-1686162600-1686165300@fidosforfreedom.org
SUMMARY:Therapy Dog Class
DESCRIPTION:
URL:https://fidosforfreedom.org/event/therapy-dog-class/2023-06-07/
LOCATION:Fidos For Freedom\, 1200 Sandy Spring Road\, Laurel\, MD\, 20707\, United States
ORGANIZER;CN="Fidos For Freedom":MAILTO:fidos@fidosforfreedom.org
END:VEVENT
BEGIN:VEVENT
DTSTART;TZID=America/New_York:20230603T110000
DTEND;TZID=America/New_York:20230603T123000
DTSTAMP:20260424T181917
CREATED:20230308T234818Z
LAST-MODIFIED:20231115T220239Z
UID:10000906-1685790000-1685795400@fidosforfreedom.org
SUMMARY:Service Dog Training
DESCRIPTION:
URL:https://fidosforfreedom.org/event/service-dog-training-2/2023-06-03/
ORGANIZER;CN="Fidos For Freedom":MAILTO:fidos@fidosforfreedom.org
END:VEVENT
BEGIN:VEVENT
DTSTART;TZID=America/New_York:20230531T183000
DTEND;TZID=America/New_York:20230531T191500
DTSTAMP:20260424T181917
CREATED:20230210T180833Z
LAST-MODIFIED:20230210T180848Z
UID:10000632-1685557800-1685560500@fidosforfreedom.org
SUMMARY:Therapy Dog Class
DESCRIPTION:
URL:https://fidosforfreedom.org/event/therapy-dog-class/2023-05-31/
LOCATION:Fidos For Freedom\, 1200 Sandy Spring Road\, Laurel\, MD\, 20707\, United States
ORGANIZER;CN="Fidos For Freedom":MAILTO:fidos@fidosforfreedom.org
END:VEVENT
BEGIN:VEVENT
DTSTART;TZID=America/New_York:20230527T110000
DTEND;TZID=America/New_York:20230527T123000
DTSTAMP:20260424T181917
CREATED:20230308T234945Z
LAST-MODIFIED:20230308T234945Z
UID:10000905-1685185200-1685190600@fidosforfreedom.org
SUMMARY:Service Dog Training
DESCRIPTION:
URL:https://fidosforfreedom.org/event/service-dog-training-2-2/
ORGANIZER;CN="Fidos For Freedom":MAILTO:fidos@fidosforfreedom.org
END:VEVENT
BEGIN:VEVENT
DTSTART;TZID=America/New_York:20230524T183000
DTEND;TZID=America/New_York:20230524T191500
DTSTAMP:20260424T181917
CREATED:20230210T180833Z
LAST-MODIFIED:20230210T180848Z
UID:10000631-1684953000-1684955700@fidosforfreedom.org
SUMMARY:Therapy Dog Class
DESCRIPTION:
URL:https://fidosforfreedom.org/event/therapy-dog-class/2023-05-24/
LOCATION:Fidos For Freedom\, 1200 Sandy Spring Road\, Laurel\, MD\, 20707\, United States
ORGANIZER;CN="Fidos For Freedom":MAILTO:fidos@fidosforfreedom.org
END:VEVENT
BEGIN:VEVENT
DTSTART;TZID=America/New_York:20230520T110000
DTEND;TZID=America/New_York:20230520T123000
DTSTAMP:20260424T181917
CREATED:20230308T234818Z
LAST-MODIFIED:20231115T220239Z
UID:10000904-1684580400-1684585800@fidosforfreedom.org
SUMMARY:Service Dog Training
DESCRIPTION:
URL:https://fidosforfreedom.org/event/service-dog-training-2/2023-05-20/
ORGANIZER;CN="Fidos For Freedom":MAILTO:fidos@fidosforfreedom.org
END:VEVENT
BEGIN:VEVENT
DTSTART;TZID=America/New_York:20230517T183000
DTEND;TZID=America/New_York:20230517T191500
DTSTAMP:20260424T181917
CREATED:20230210T180833Z
LAST-MODIFIED:20230210T180848Z
UID:10000630-1684348200-1684350900@fidosforfreedom.org
SUMMARY:Therapy Dog Class
DESCRIPTION:
URL:https://fidosforfreedom.org/event/therapy-dog-class/2023-05-17/
LOCATION:Fidos For Freedom\, 1200 Sandy Spring Road\, Laurel\, MD\, 20707\, United States
ORGANIZER;CN="Fidos For Freedom":MAILTO:fidos@fidosforfreedom.org
END:VEVENT
BEGIN:VEVENT
DTSTART;TZID=America/New_York:20230513T110000
DTEND;TZID=America/New_York:20230513T123000
DTSTAMP:20260424T181917
CREATED:20230308T234818Z
LAST-MODIFIED:20231115T220239Z
UID:10000903-1683975600-1683981000@fidosforfreedom.org
SUMMARY:Service Dog Training
DESCRIPTION:
URL:https://fidosforfreedom.org/event/service-dog-training-2/2023-05-13/
ORGANIZER;CN="Fidos For Freedom":MAILTO:fidos@fidosforfreedom.org
END:VEVENT
BEGIN:VEVENT
DTSTART;TZID=America/New_York:20230510T183000
DTEND;TZID=America/New_York:20230510T191500
DTSTAMP:20260424T181917
CREATED:20230210T180833Z
LAST-MODIFIED:20230210T180848Z
UID:10000629-1683743400-1683746100@fidosforfreedom.org
SUMMARY:Therapy Dog Class
DESCRIPTION:
URL:https://fidosforfreedom.org/event/therapy-dog-class/2023-05-10/
LOCATION:Fidos For Freedom\, 1200 Sandy Spring Road\, Laurel\, MD\, 20707\, United States
ORGANIZER;CN="Fidos For Freedom":MAILTO:fidos@fidosforfreedom.org
END:VEVENT
BEGIN:VEVENT
DTSTART;TZID=America/New_York:20230506T110000
DTEND;TZID=America/New_York:20230506T123000
DTSTAMP:20260424T181917
CREATED:20230308T234818Z
LAST-MODIFIED:20231115T220239Z
UID:10000902-1683370800-1683376200@fidosforfreedom.org
SUMMARY:Service Dog Training
DESCRIPTION:
URL:https://fidosforfreedom.org/event/service-dog-training-2/2023-05-06/
ORGANIZER;CN="Fidos For Freedom":MAILTO:fidos@fidosforfreedom.org
END:VEVENT
BEGIN:VEVENT
DTSTART;TZID=America/New_York:20230503T183000
DTEND;TZID=America/New_York:20230503T191500
DTSTAMP:20260424T181917
CREATED:20230210T180833Z
LAST-MODIFIED:20230210T180848Z
UID:10000628-1683138600-1683141300@fidosforfreedom.org
SUMMARY:Therapy Dog Class
DESCRIPTION:
URL:https://fidosforfreedom.org/event/therapy-dog-class/2023-05-03/
LOCATION:Fidos For Freedom\, 1200 Sandy Spring Road\, Laurel\, MD\, 20707\, United States
ORGANIZER;CN="Fidos For Freedom":MAILTO:fidos@fidosforfreedom.org
END:VEVENT
BEGIN:VEVENT
DTSTART;TZID=America/New_York:20230429T110000
DTEND;TZID=America/New_York:20230429T123000
DTSTAMP:20260424T181917
CREATED:20230308T234818Z
LAST-MODIFIED:20231115T220239Z
UID:10000901-1682766000-1682771400@fidosforfreedom.org
SUMMARY:Service Dog Training
DESCRIPTION:
URL:https://fidosforfreedom.org/event/service-dog-training-2/2023-04-29/
ORGANIZER;CN="Fidos For Freedom":MAILTO:fidos@fidosforfreedom.org
END:VEVENT
BEGIN:VEVENT
DTSTART;TZID=America/New_York:20230426T183000
DTEND;TZID=America/New_York:20230426T191500
DTSTAMP:20260424T181917
CREATED:20230210T180833Z
LAST-MODIFIED:20230210T180848Z
UID:10000627-1682533800-1682536500@fidosforfreedom.org
SUMMARY:Therapy Dog Class
DESCRIPTION:
URL:https://fidosforfreedom.org/event/therapy-dog-class/2023-04-26/
LOCATION:Fidos For Freedom\, 1200 Sandy Spring Road\, Laurel\, MD\, 20707\, United States
ORGANIZER;CN="Fidos For Freedom":MAILTO:fidos@fidosforfreedom.org
END:VEVENT
BEGIN:VEVENT
DTSTART;TZID=America/New_York:20230422T110000
DTEND;TZID=America/New_York:20230422T123000
DTSTAMP:20260424T181917
CREATED:20230308T234818Z
LAST-MODIFIED:20231115T220239Z
UID:10000900-1682161200-1682166600@fidosforfreedom.org
SUMMARY:Service Dog Training
DESCRIPTION:
URL:https://fidosforfreedom.org/event/service-dog-training-2/2023-04-22/
ORGANIZER;CN="Fidos For Freedom":MAILTO:fidos@fidosforfreedom.org
END:VEVENT
BEGIN:VEVENT
DTSTART;TZID=America/New_York:20230419T183000
DTEND;TZID=America/New_York:20230419T191500
DTSTAMP:20260424T181917
CREATED:20230210T180833Z
LAST-MODIFIED:20230210T180848Z
UID:10000626-1681929000-1681931700@fidosforfreedom.org
SUMMARY:Therapy Dog Class
DESCRIPTION:
URL:https://fidosforfreedom.org/event/therapy-dog-class/2023-04-19/
LOCATION:Fidos For Freedom\, 1200 Sandy Spring Road\, Laurel\, MD\, 20707\, United States
ORGANIZER;CN="Fidos For Freedom":MAILTO:fidos@fidosforfreedom.org
END:VEVENT
BEGIN:VEVENT
DTSTART;TZID=America/New_York:20230415T110000
DTEND;TZID=America/New_York:20230415T123000
DTSTAMP:20260424T181917
CREATED:20230308T234818Z
LAST-MODIFIED:20231115T220239Z
UID:10000899-1681556400-1681561800@fidosforfreedom.org
SUMMARY:Service Dog Training
DESCRIPTION:
URL:https://fidosforfreedom.org/event/service-dog-training-2/2023-04-15/
ORGANIZER;CN="Fidos For Freedom":MAILTO:fidos@fidosforfreedom.org
END:VEVENT
BEGIN:VEVENT
DTSTART;TZID=America/New_York:20230412T183000
DTEND;TZID=America/New_York:20230412T191500
DTSTAMP:20260424T181917
CREATED:20230210T180833Z
LAST-MODIFIED:20230210T180848Z
UID:10000625-1681324200-1681326900@fidosforfreedom.org
SUMMARY:Therapy Dog Class
DESCRIPTION:
URL:https://fidosforfreedom.org/event/therapy-dog-class/2023-04-12/
LOCATION:Fidos For Freedom\, 1200 Sandy Spring Road\, Laurel\, MD\, 20707\, United States
ORGANIZER;CN="Fidos For Freedom":MAILTO:fidos@fidosforfreedom.org
END:VEVENT
BEGIN:VEVENT
DTSTART;TZID=America/New_York:20230408T110000
DTEND;TZID=America/New_York:20230408T123000
DTSTAMP:20260424T181917
CREATED:20230308T234818Z
LAST-MODIFIED:20231115T220239Z
UID:10000898-1680951600-1680957000@fidosforfreedom.org
SUMMARY:Service Dog Training
DESCRIPTION:
URL:https://fidosforfreedom.org/event/service-dog-training-2/2023-04-08/
ORGANIZER;CN="Fidos For Freedom":MAILTO:fidos@fidosforfreedom.org
END:VEVENT
BEGIN:VEVENT
DTSTART;TZID=America/New_York:20230405T183000
DTEND;TZID=America/New_York:20230405T191500
DTSTAMP:20260424T181917
CREATED:20230210T180833Z
LAST-MODIFIED:20230210T180848Z
UID:10000624-1680719400-1680722100@fidosforfreedom.org
SUMMARY:Therapy Dog Class
DESCRIPTION:
URL:https://fidosforfreedom.org/event/therapy-dog-class/2023-04-05/
LOCATION:Fidos For Freedom\, 1200 Sandy Spring Road\, Laurel\, MD\, 20707\, United States
ORGANIZER;CN="Fidos For Freedom":MAILTO:fidos@fidosforfreedom.org
END:VEVENT
BEGIN:VEVENT
DTSTART;TZID=America/New_York:20230402T130000
DTEND;TZID=America/New_York:20230402T170000
DTSTAMP:20260424T181917
CREATED:20230209T181733Z
LAST-MODIFIED:20230209T181733Z
UID:10000090-1680440400-1680454800@fidosforfreedom.org
SUMMARY:Therapy Dog Testing
DESCRIPTION:Therapy dogs are owned by our volunteers and are specifically trained to perform quality pet therapy visits at local healthcare facilities\, schools\, first responders\, etc.  Allowing your dog to give a little unconditional love to others will be one of the most rewarding experiences of your life.  It will be an activity that your dog will grow to anticipate eagerly.  You will have the opportunity to see people smile who seldom find a reason to smile.  Volunteering with our Therapy Dog Program is a wonderful way to spend quality time with your special dog. \n  \nPlease email therapydogs@fidosforfreedom.org if you are interested.
URL:https://fidosforfreedom.org/event/therapy-dog-testing/
LOCATION:Fidos For Freedom\, 1200 Sandy Spring Road\, Laurel\, MD\, 20707\, United States
ORGANIZER;CN="Fidos For Freedom":MAILTO:fidos@fidosforfreedom.org
END:VEVENT
BEGIN:VEVENT
DTSTART;TZID=America/New_York:20230401T110000
DTEND;TZID=America/New_York:20230401T123000
DTSTAMP:20260424T181917
CREATED:20230308T234818Z
LAST-MODIFIED:20231115T220239Z
UID:10000897-1680346800-1680352200@fidosforfreedom.org
SUMMARY:Service Dog Training
DESCRIPTION:
URL:https://fidosforfreedom.org/event/service-dog-training-2/2023-04-01/
ORGANIZER;CN="Fidos For Freedom":MAILTO:fidos@fidosforfreedom.org
END:VEVENT
BEGIN:VEVENT
DTSTART;TZID=America/New_York:20230329T183000
DTEND;TZID=America/New_York:20230329T191500
DTSTAMP:20260424T181917
CREATED:20230210T180833Z
LAST-MODIFIED:20230210T180848Z
UID:10000623-1680114600-1680117300@fidosforfreedom.org
SUMMARY:Therapy Dog Class
DESCRIPTION:
URL:https://fidosforfreedom.org/event/therapy-dog-class/2023-03-29/
LOCATION:Fidos For Freedom\, 1200 Sandy Spring Road\, Laurel\, MD\, 20707\, United States
ORGANIZER;CN="Fidos For Freedom":MAILTO:fidos@fidosforfreedom.org
END:VEVENT
END:VCALENDAR